BEGIN:VCALENDAR
VERSION:2.0
PRODID:-//KNBB District Friesland - ECPv6.15.18//NONSGML v1.0//EN
CALSCALE:GREGORIAN
METHOD:PUBLISH
X-WR-CALNAME:KNBB District Friesland
X-ORIGINAL-URL:https://www.knbb-friesland.nl
X-WR-CALDESC:Evenementen voor KNBB District Friesland
REFRESH-INTERVAL;VALUE=DURATION:PT1H
X-Robots-Tag:noindex
X-PUBLISHED-TTL:PT1H
BEGIN:VTIMEZONE
TZID:Europe/Paris
BEGIN:DAYLIGHT
TZOFFSETFROM:+0100
TZOFFSETTO:+0200
TZNAME:CEST
DTSTART:20230326T010000
END:DAYLIGHT
BEGIN:STANDARD
TZOFFSETFROM:+0200
TZOFFSETTO:+0100
TZNAME:CET
DTSTART:20231029T010000
END:STANDARD
BEGIN:DAYLIGHT
TZOFFSETFROM:+0100
TZOFFSETTO:+0200
TZNAME:CEST
DTSTART:20240331T010000
END:DAYLIGHT
BEGIN:STANDARD
TZOFFSETFROM:+0200
TZOFFSETTO:+0100
TZNAME:CET
DTSTART:20241027T010000
END:STANDARD
BEGIN:DAYLIGHT
TZOFFSETFROM:+0100
TZOFFSETTO:+0200
TZNAME:CEST
DTSTART:20250330T010000
END:DAYLIGHT
BEGIN:STANDARD
TZOFFSETFROM:+0200
TZOFFSETTO:+0100
TZNAME:CET
DTSTART:20251026T010000
END:STANDARD
BEGIN:DAYLIGHT
TZOFFSETFROM:+0100
TZOFFSETTO:+0200
TZNAME:CEST
DTSTART:20260329T010000
END:DAYLIGHT
BEGIN:STANDARD
TZOFFSETFROM:+0200
TZOFFSETTO:+0100
TZNAME:CET
DTSTART:20261025T010000
END:STANDARD
END:VTIMEZONE
BEGIN:VEVENT
DTSTART;TZID=Europe/Paris:20250406T100000
DTEND;TZID=Europe/Paris:20250406T170000
DTSTAMP:20260421T180610
CREATED:20241216T112741Z
LAST-MODIFIED:20241216T112741Z
UID:4178-1743933600-1743958800@www.knbb-friesland.nl
SUMMARY:Districtsfinale gemengd kader 57/2 en 38/2 (Dag 2 van 2)
DESCRIPTION:
URL:https://www.knbb-friesland.nl/event/districtsfinale-gemengd-kader-57-2-en-38-2-dag-2-van-2/
LOCATION:BC Sneek\, Kruizebroederstraat 36\, Sneek\, 8605 AJ
CATEGORIES:Districtsfinale,Kader
ATTACH;FMTTYPE=image/jpeg:https://www.knbb-friesland.nl/wp-content/uploads/2024/10/Kader-572-382.jpeg
END:VEVENT
BEGIN:VEVENT
DTSTART;TZID=Europe/Paris:20250405T110000
DTEND;TZID=Europe/Paris:20250405T180000
DTSTAMP:20260421T180610
CREATED:20241013T044558Z
LAST-MODIFIED:20241216T112634Z
UID:3882-1743850800-1743876000@www.knbb-friesland.nl
SUMMARY:Districtsfinale gemengd kader 57/2 en 38/2 (Dag 1 van 2)
DESCRIPTION:
URL:https://www.knbb-friesland.nl/event/districtsfinale-gemengd-kader-57-2-en-38-2/
LOCATION:BC Sneek\, Kruizebroederstraat 36\, Sneek\, 8605 AJ
CATEGORIES:Districtsfinale,Kader
ATTACH;FMTTYPE=image/jpeg:https://www.knbb-friesland.nl/wp-content/uploads/2023/05/Triathlon-22-23.jpeg
ORGANIZER;CN="KNBB district Friesland":MAILTO:wedstrijdleider_pk@knbb-friesland.nl
END:VEVENT
BEGIN:VEVENT
DTSTART;VALUE=DATE:20250208
DTEND;VALUE=DATE:20250211
DTSTAMP:20260421T180610
CREATED:20241013T043112Z
LAST-MODIFIED:20241013T043112Z
UID:3878-1738976400-1739149199@www.knbb-friesland.nl
SUMMARY:Districtsfinale bandstoten klein 1e klasse
DESCRIPTION:
URL:https://www.knbb-friesland.nl/event/districtsfinale-bandstoten-klein-1e-klasse-2/
LOCATION:Jan Wiemers\, Sportcafé Harmonie\, Legeweg 33\, Dokkum\, 9101 MB
CATEGORIES:Bandstoten klein,Districtsfinale
ATTACH;FMTTYPE=image/jpeg:https://www.knbb-friesland.nl/wp-content/uploads/2023/05/PICT0109.jpeg
END:VEVENT
BEGIN:VEVENT
DTSTART;VALUE=DATE:20250201
DTEND;VALUE=DATE:20250204
DTSTAMP:20260421T180610
CREATED:20241013T042927Z
LAST-MODIFIED:20241013T043549Z
UID:3875-1738371600-1738544399@www.knbb-friesland.nl
SUMMARY:Districtsfinale bandstoten klein 2e klasse
DESCRIPTION:
URL:https://www.knbb-friesland.nl/event/districtsfinale-bandstoten-klein-2e-klasse-2/
LOCATION:Krul\, Julianaplantsoen 10\, Woudsend\, 8551NN
CATEGORIES:Bandstoten klein,Districtsfinale
ATTACH;FMTTYPE=image/jpeg:https://www.knbb-friesland.nl/wp-content/uploads/2023/05/PICT0109.jpeg
END:VEVENT
BEGIN:VEVENT
DTSTART;VALUE=DATE:20250118
DTEND;VALUE=DATE:20250121
DTSTAMP:20260421T180610
CREATED:20241013T042623Z
LAST-MODIFIED:20241013T043656Z
UID:3873-1737162000-1737334799@www.knbb-friesland.nl
SUMMARY:Districtsfinale bandstoten klein 3e klasse
DESCRIPTION:
URL:https://www.knbb-friesland.nl/event/districtsfinale-bandstoten-klein-3e-klasse-2/
LOCATION:Dronryp\, Café De Posthoorn\, Bregebuorren 10\, Dronryp\, Friesland\, 9035 AR
CATEGORIES:Bandstoten klein,Districtsfinale
ATTACH;FMTTYPE=image/jpeg:https://www.knbb-friesland.nl/wp-content/uploads/2023/05/PICT0109.jpeg
END:VEVENT
BEGIN:VEVENT
DTSTART;TZID=Europe/Paris:20241214T100000
DTEND;TZID=Europe/Paris:20241214T170000
DTSTAMP:20260421T180610
CREATED:20241012T055530Z
LAST-MODIFIED:20241208T193338Z
UID:3867-1734170400-1734195600@www.knbb-friesland.nl
SUMMARY:Districtsfinale libre klein 1e klasse dag 2/2
DESCRIPTION:
URL:https://www.knbb-friesland.nl/event/districtsfinale-libre-klein-1e-klasse-2/
LOCATION:Britsenburgh\, Menno van Coehoornwei 16A\, Britsum
CATEGORIES:Districtsfinale,Libre klein
ATTACH;FMTTYPE=image/jpeg:https://www.knbb-friesland.nl/wp-content/uploads/2023/05/PICT0109.jpeg
END:VEVENT
BEGIN:VEVENT
DTSTART;TZID=Europe/Paris:20241213T190000
DTEND;TZID=Europe/Paris:20241213T230000
DTSTAMP:20260421T180610
CREATED:20241120T070845Z
LAST-MODIFIED:20241208T193411Z
UID:4096-1734116400-1734130800@www.knbb-friesland.nl
SUMMARY:Districtsfinale libre klein 1e klasse dag 1/2
DESCRIPTION:
URL:https://www.knbb-friesland.nl/event/districtsfinale-libre-klein-1e-klasse-dag-2-2/
LOCATION:Britsenburgh\, Menno van Coehoornwei 16A\, Britsum
CATEGORIES:Districtsfinale,Libre klein
ATTACH;FMTTYPE=image/jpeg:https://www.knbb-friesland.nl/wp-content/uploads/2023/05/52025eb7-cd8a-4f12-b397-8059bdef14d0.jpg
END:VEVENT
BEGIN:VEVENT
DTSTART;TZID=Europe/Paris:20241130T100000
DTEND;TZID=Europe/Paris:20241130T170000
DTSTAMP:20260421T180610
CREATED:20241126T080108Z
LAST-MODIFIED:20241126T080108Z
UID:4125-1732960800-1732986000@www.knbb-friesland.nl
SUMMARY:Districtsfinale libre klein 2e klasse dag 2/2
DESCRIPTION:
URL:https://www.knbb-friesland.nl/event/districtsfinale-libre-klein-2e-klasse-dag-2-2/
LOCATION:Britsenburgh\, Menno van Coehoornwei 16A\, Britsum
CATEGORIES:Districtsfinale,Libre klein
ATTACH;FMTTYPE=image/jpeg:https://www.knbb-friesland.nl/wp-content/uploads/2023/05/52025eb7-cd8a-4f12-b397-8059bdef14d0.jpg
END:VEVENT
BEGIN:VEVENT
DTSTART;TZID=Europe/Paris:20241129T190000
DTEND;TZID=Europe/Paris:20241129T233000
DTSTAMP:20260421T180610
CREATED:20241012T055354Z
LAST-MODIFIED:20241126T075851Z
UID:3865-1732906800-1732923000@www.knbb-friesland.nl
SUMMARY:Districtsfinale libre klein 2e klasse dag 1/2
DESCRIPTION:
URL:https://www.knbb-friesland.nl/event/districtsfinale-libre-klein-2e-klasse-2/
LOCATION:Britsenburgh\, Menno van Coehoornwei 16A\, Britsum
CATEGORIES:Districtsfinale,Libre klein
ATTACH;FMTTYPE=image/jpeg:https://www.knbb-friesland.nl/wp-content/uploads/2023/05/PICT0109.jpeg
END:VEVENT
BEGIN:VEVENT
DTSTART;VALUE=DATE:20241122
DTEND;VALUE=DATE:20241125
DTSTAMP:20260421T180610
CREATED:20241012T054516Z
LAST-MODIFIED:20241012T054516Z
UID:3857-1732237200-1732409999@www.knbb-friesland.nl
SUMMARY:Districtsfinale driebanden groot 1e klasse
DESCRIPTION:
URL:https://www.knbb-friesland.nl/event/districtsfinale-driebanden-groot-1e-klasse/
LOCATION:De Friesche Club\, Ruiterskwartier 57\, Leeuwarden\, 8911 BP
CATEGORIES:Districtsfinale,Driebanden groot
ATTACH;FMTTYPE=image/jpeg:https://www.knbb-friesland.nl/wp-content/uploads/2023/05/Driebanden-962395219.jpeg
END:VEVENT
BEGIN:VEVENT
DTSTART;VALUE=DATE:20241109
DTEND;VALUE=DATE:20241112
DTSTAMP:20260421T180610
CREATED:20241012T055234Z
LAST-MODIFIED:20241013T044138Z
UID:3863-1731114000-1731286799@www.knbb-friesland.nl
SUMMARY:Districtsfinale libre klein 3e klasse
DESCRIPTION:
URL:https://www.knbb-friesland.nl/event/districtsfinale-libre-klein-3e-klasse-2/
LOCATION:BC Gorredijk\, Leitswei 17\, Gorredijk
CATEGORIES:Districtsfinale,Libre klein
ATTACH;FMTTYPE=image/jpeg:https://www.knbb-friesland.nl/wp-content/uploads/2023/05/PICT0109.jpeg
END:VEVENT
BEGIN:VEVENT
DTSTART;TZID=Europe/Paris:20241102T110000
DTEND;TZID=Europe/Paris:20241103T170000
DTSTAMP:20260421T180610
CREATED:20241012T055001Z
LAST-MODIFIED:20241030T072342Z
UID:3859-1730545200-1730653200@www.knbb-friesland.nl
SUMMARY:Districtsfinale libre klein 4e klasse
DESCRIPTION:
URL:https://www.knbb-friesland.nl/event/districtfinale-libre-klein-4e-klasse/
LOCATION:BV Lekkum\, Weme 18\, Lekkum\, 9081 AS
CATEGORIES:Districtsfinale,Libre klein
ATTACH;FMTTYPE=image/jpeg:https://www.knbb-friesland.nl/wp-content/uploads/2023/05/PICT0109.jpeg
END:VEVENT
BEGIN:VEVENT
DTSTART;TZID=Europe/Paris:20241013T120000
DTEND;TZID=Europe/Paris:20241013T170000
DTSTAMP:20260421T180610
CREATED:20241013T051750Z
LAST-MODIFIED:20241013T082453Z
UID:3907-1728820800-1728838800@www.knbb-friesland.nl
SUMMARY:Fries kampioenschap driebanden klein 1e klasse dag 2
DESCRIPTION:
URL:https://www.knbb-friesland.nl/event/fries-kampioenschap-driebanden-klein-1e-klasse-dag-2/
LOCATION:BC De Bargebeck\, Zalencentrum Sint Nyk\, Baron van Hardenbroekstraat 3\, Sint Nicolaasga\, 8521 KA
CATEGORIES:Districtsfinale,Driebanden klein
ATTACH;FMTTYPE=image/jpeg:https://www.knbb-friesland.nl/wp-content/uploads/2023/05/Driebanden-962395219.jpeg
END:VEVENT
BEGIN:VEVENT
DTSTART;TZID=Europe/Paris:20241012T110000
DTEND;TZID=Europe/Paris:20241012T180000
DTSTAMP:20260421T180610
CREATED:20241001T184652Z
LAST-MODIFIED:20241013T062939Z
UID:3810-1728730800-1728756000@www.knbb-friesland.nl
SUMMARY:Fries kampioenschap driebanden klein 1e klasse dag 1
DESCRIPTION:Stand
URL:https://www.knbb-friesland.nl/event/friesch-kampioenschap-driebanden-klein-1e-klasse/
LOCATION:BC De Bargebeck\, Zalencentrum Sint Nyk\, Baron van Hardenbroekstraat 3\, Sint Nicolaasga\, 8521 KA
CATEGORIES:Districtsfinale,Driebanden klein
ATTACH;FMTTYPE=image/jpeg:https://www.knbb-friesland.nl/wp-content/uploads/2023/05/Driebanden-962395219.jpeg
END:VEVENT
END:VCALENDAR